BEGIN:VCALENDAR
VERSION:2.0
PRODID:-//wp-events-plugin.com//7.2.3.1//EN
TZID:Europe/Berlin
X-WR-TIMEZONE:Europe/Berlin
BEGIN:VEVENT
UID:12@asffh.de
DTSTART;TZID=Europe/Berlin:20230504T100000
DTEND;TZID=Europe/Berlin:20230504T150000
DTSTAMP:20230322T100351Z
URL:https://www.asffh.de/veranstaltungen/leiterinnenforum-der-hessischen-f
 ruehfoerderstellen/
SUMMARY:Leiter:innenforum der hessischen Frühförderstellen
DESCRIPTION:Informations- und Austauschforum für die Leiterinnen und Leite
 r der hessischen Frühförderstellen.\n\nThemen betreffen aktuelles aus de
 n Regionen\, BTHG\, hessische Landesrahmenvereinbarung Frühförderung\, K
 JSG u.a.\n\n&nbsp\;\n\nZeit: 10.00 - 15.00 Uhr\n\nOrt: Technologie- und Ta
 gungszentrum Marburg Softwarecenter 3 35037 Marburg\n\nKosten: 60\,00 Euro
  (inkl. Tagesverpflegung)\n\nBei Rücktritt (s. allgemeine Bedingungen) wi
 rd eine Bearbeitungsgebühr von 15\,00 Euro einbehalten bzw. in Rechnung g
 estellt.
CATEGORIES:Veranstaltung
LOCATION:Technologie- und Tagungszentrum\, Softwarecenter 3\,  Marburg/Lahn
 \, 35037\, Deutschland
X-APPLE-STRUCTURED-LOCATION;VALUE=URI;X-ADDRESS=Softwarecenter 3\,  Marburg
 /Lahn\, 35037\, Deutschland;X-APPLE-RADIUS=100;X-TITLE=Technologie- und Ta
 gungszentrum:geo:0,0
END:VEVENT
BEGIN:VTIMEZONE
TZID:Europe/Berlin
X-LIC-LOCATION:Europe/Berlin
BEGIN:DAYLIGHT
DTSTART:20230326T030000
TZOFFSETFROM:+0100
TZOFFSETTO:+0200
TZNAME:CEST
END:DAYLIGHT
END:VTIMEZONE
END:VCALENDAR