BEGIN:VCALENDAR
VERSION:2.0
PRODID:-//wp-events-plugin.com//7.2.3.1//EN
TZID:Europe/Berlin
X-WR-TIMEZONE:Europe/Berlin
BEGIN:VEVENT
UID:66@asffh.de
DTSTART;TZID=Europe/Berlin:20260623T100000
DTEND;TZID=Europe/Berlin:20260623T160000
DTSTAMP:20260225T123209Z
URL:https://www.asffh.de/veranstaltungen/willkommenstag-fuer-neue-mitarbei
 terinnen-in-der-fruehfoerderung-wie-erreicht-fruehfoerderung-familien-heut
 e-3/
SUMMARY:Willkommenstag für neue Mitarbeiter:innen in der Frühförderung. 
 „Wie erreicht Frühförderung Familien heute?“
DESCRIPTION:Mit dem Willkommenstag soll allen Fachkräften\, die neu in der
  hessischen Frühförderung begonnen haben - oder die sich noch „neu“ 
 fühlen - die Möglichkeit geboten werden\, sich mit Kolleg:innen in ähnl
 icher Situation auszutauschen und gemeinsame Themen zu besprechen. Neben d
 em gegenseitigen Kennenlernen der Teilnehmer:innen und ihrer Frühförders
 tellen werden in einem ersten Teil die aktuellen Fragen\, die Sie selbst m
 itbringen im Vordergrund stehen.\n\nDarüber hinaus erhalten Sie Input zu 
 den Rahmenbedingungen der Frühförderung bundesweit und speziell in Hesse
 n sowie zu aktuellen Entwicklungen (Bundesteilhabegesetz\, ICF-Nutzung\, L
 RV etc.).\n\nIm zweiten Teil des Tages betrachten wir die aktuellen Heraus
 forderungen zum Thema Familienorientierung.\n\n 	Auf welche Familien triff
 t Frühförderung aktuell und in welchen Situationen befinden sie sich?\n 
 	Was wünschen sich Familien von Frühförderung?\n 	Was kann Frühförder
 ung Kindern und ihren Familien fachlich bieten?\n\nDurch Input und Austaus
 ch können Ideen zum eigenen Vorgehen entwickelt werden. Bringen Sie hierf
 ür gerne Beispiele aus Ihrer Praxis mit.\n\nReferentin: Nancy Munsche\, A
 rbeitsstelle Frühförderung Hessen\n\nKosten: 60\,00 Euro (inkl. Mittages
 sen)\n\nBei Rücktritt (s. allgemeine Bedingungen) wird eine Bearbeitungsg
 ebühr von 10\,00 Euro einbehalten bzw. in Rechnung gestellt\n\n&nbsp\;\n\
 nBitte denken Sie bei der Anmeldung an die korrekte Rechnungsanschrift!
CATEGORIES:Fortbildung,Veranstaltung
LOCATION:Arbeitsstelle Frühförderung Hessen\, Seminarraum Hainburg\, Ludw
 igstraße 136\, Haus 4 \, Offenbach\, 63067\, Deutschland
X-APPLE-STRUCTURED-LOCATION;VALUE=URI;X-ADDRESS=Ludwigstraße 136\, Haus 4 
 \, Offenbach\, 63067\, Deutschland;X-APPLE-RADIUS=100;X-TITLE=Arbeitsstell
 e Frühförderung Hessen\, Seminarraum Hainburg:geo:0,0
END:VEVENT
BEGIN:VTIMEZONE
TZID:Europe/Berlin
X-LIC-LOCATION:Europe/Berlin
BEGIN:DAYLIGHT
DTSTART:20260329T030000
TZOFFSETFROM:+0100
TZOFFSETTO:+0200
TZNAME:CEST
END:DAYLIGHT
END:VTIMEZONE
END:VCALENDAR